Workbook

Sheet Çizelge
A1: Aylık Vardiya Çizelgesi
B2: Firma / şube:
B3: Ay (ayın 1’i): | C3: 46023 | F3: ← ayın ilk gününü yazın
B4: Hücrelere vardiya kodunu seçin (Vardiyalar sayfası). Haftalık sınır: | P4: 45
A6: # | B6: Tarih → | C6: =IF(1<=DAY(EOMONTH($C$3,0)),$C$3+0,"") | D6: =IF(2<=DAY(EOMONTH($C$3,0)),$C$3+1,"") | E6: =IF(3<=DAY(EOMONTH($C$3,0)),$C$3+2,"") | F6: =IF(4<=DAY(EOMONTH($C$3,0)),$C$3+3,"") | G6: =IF(5<=DAY(EOMONTH($C$3,0)),$C$3+4,"") | H6: =IF(6<=DAY(EOMONTH($C$3,0)),$C$3+5,"") | I6: =IF(7<=DAY(EOMONTH($C$3,0)),$C$3+6,"") | J6: =IF(8<=DAY(EOMONTH($C$3,0)),$C$3+7,"") | K6: =IF(9<=DAY(EOMONTH($C$3,0)),$C$3+8,"") | L6: =IF(10<=DAY(EOMONTH($C$3,0)),$C$3+9,"") | M6: =IF(11<=DAY(EOMONTH($C$3,0)),$C$3+10,"") | N6: =IF(12<=DAY(EOMONTH($C$3,0)),$C$3+11,"") | O6: =IF(13<=DAY(EOMONTH($C$3,0)),$C$3+12,"") | P6: =IF(14<=DAY(EOMONTH($C$3,0)),$C$3+13,"") | Q6: =IF(15<=DAY(EOMONTH($C$3,0)),$C$3+14,"") | R6: =IF(16<=DAY(EOMONTH($C$3,0)),$C$3+15,"") | S6: =IF(17<=DAY(EOMONTH($C$3,0)),$C$3+16,"") | T6: =IF(18<=DAY(EOMONTH($C$3,0)),$C$3+17,"") | U6: =IF(19<=DAY(EOMONTH($C$3,0)),$C$3+18,"") | V6: =IF(20<=DAY(EOMONTH($C$3,0)),$C$3+19,"") | W6: =IF(21<=DAY(EOMONTH($C$3,0)),$C$3+20,"") | X6: =IF(22<=DAY(EOMONTH($C$3,0)),$C$3+21,"") | Y6: =IF(23<=DAY(EOMONTH($C$3,0)),$C$3+22,"") | Z6: =IF(24<=DAY(EOMONTH($C$3,0)),$C$3+23,"") | AA6: =IF(25<=DAY(EOMONTH($C$3,0)),$C$3+24,"") | AB6: =IF(26<=DAY(EOMONTH($C$3,0)),$C$3+25,"") | AC6: =IF(27<=DAY(EOMONTH($C$3,0)),$C$3+26,"") | AD6: =IF(28<=DAY(EOMONTH($C$3,0)),$C$3+27,"") | AE6: =IF(29<=DAY(EOMONTH($C$3,0)),$C$3+28,"") | AF6: =IF(30<=DAY(EOMONTH($C$3,0)),$C$3+29,"") | AG6: =IF(31<=DAY(EOMONTH($C$3,0)),$C$3+30,"")
B7: Çalışan | C7: =IF(C6="","",CHOOSE(WEEKDAY(C6,2),"Pt","Sa","Ça","Pe","Cu","Ct","Pz")) | D7: =IF(D6="","",CHOOSE(WEEKDAY(D6,2),"Pt","Sa","Ça","Pe","Cu","Ct","Pz")) | E7: =IF(E6="","",CHOOSE(WEEKDAY(E6,2),"Pt","Sa","Ça","Pe","Cu","Ct","Pz")) | F7: =IF(F6="","",CHOOSE(WEEKDAY(F6,2),"Pt","Sa","Ça","Pe","Cu","Ct","Pz")) | G7: =IF(G6="","",CHOOSE(WEEKDAY(G6,2),"Pt","Sa","Ça","Pe","Cu","Ct","Pz")) | H7: =IF(H6="","",CHOOSE(WEEKDAY(H6,2),"Pt","Sa","Ça","Pe","Cu","Ct","Pz")) | I7: =IF(I6="","",CHOOSE(WEEKDAY(I6,2),"Pt","Sa","Ça","Pe","Cu","Ct","Pz")) | J7: =IF(J6="","",CHOOSE(WEEKDAY(J6,2),"Pt","Sa","Ça","Pe","Cu","Ct","Pz")) | ... AG7: =IF(AG6="","",CHOOSE(WEEKDAY(AG6,2),"Pt","Sa","Ça","Pe","Cu","Ct","Pz")) | AH7: Toplam saat | AI7: Ort. haftalık | AJ7: Gece | AK7: Hafta tatili | AL7: İzin/rapor
A8: 1 | AH8: =SUMPRODUCT(COUNTIF($C8:$AG8,Vardiyalar!$A$2:$A$20),Vardiyalar!$F$2:$F$20) | AI8: =ROUND(AH8/(DAY(EOMONTH($C$3,0))/7),2) | AJ8: =COUNTIF($C8:$AG8,"G") | AK8: =COUNTIF($C8:$AG8,"HT") | AL8: =COUNTIF($C8:$AG8,"Yİ")+COUNTIF($C8:$AG8,"R")
A9: 2 | AH9: =SUMPRODUCT(COUNTIF($C9:$AG9,Vardiyalar!$A$2:$A$20),Vardiyalar!$F$2:$F$20) | AI9: =ROUND(AH9/(DAY(EOMONTH($C$3,0))/7),2) | AJ9: =COUNTIF($C9:$AG9,"G") | AK9: =COUNTIF($C9:$AG9,"HT") | AL9: =COUNTIF($C9:$AG9,"Yİ")+COUNTIF($C9:$AG9,"R")
A10: 3 | AH10: =SUMPRODUCT(COUNTIF($C10:$AG10,Vardiyalar!$A$2:$A$20),Vardiyalar!$F$2:$F$20) | AI10: =ROUND(AH10/(DAY(EOMONTH($C$3,0))/7),2) | AJ10: =COUNTIF($C10:$AG10,"G") | AK10: =COUNTIF($C10:$AG10,"HT") | AL10: =COUNTIF($C10:$AG10,"Yİ")+COUNTIF($C10:$AG10,"R")
A11: 4 | AH11: =SUMPRODUCT(COUNTIF($C11:$AG11,Vardiyalar!$A$2:$A$20),Vardiyalar!$F$2:$F$20) | AI11: =ROUND(AH11/(DAY(EOMONTH($C$3,0))/7),2) | AJ11: =COUNTIF($C11:$AG11,"G") | AK11: =COUNTIF($C11:$AG11,"HT") | AL11: =COUNTIF($C11:$AG11,"Yİ")+COUNTIF($C11:$AG11,"R")
A12: 5 | AH12: =SUMPRODUCT(COUNTIF($C12:$AG12,Vardiyalar!$A$2:$A$20),Vardiyalar!$F$2:$F$20) | AI12: =ROUND(AH12/(DAY(EOMONTH($C$3,0))/7),2) | AJ12: =COUNTIF($C12:$AG12,"G") | AK12: =COUNTIF($C12:$AG12,"HT") | AL12: =COUNTIF($C12:$AG12,"Yİ")+COUNTIF($C12:$AG12,"R")
A13: 6 | AH13: =SUMPRODUCT(COUNTIF($C13:$AG13,Vardiyalar!$A$2:$A$20),Vardiyalar!$F$2:$F$20) | AI13: =ROUND(AH13/(DAY(EOMONTH($C$3,0))/7),2) | AJ13: =COUNTIF($C13:$AG13,"G") | AK13: =COUNTIF($C13:$AG13,"HT") | AL13: =COUNTIF($C13:$AG13,"Yİ")+COUNTIF($C13:$AG13,"R")
A14: 7 | AH14: =SUMPRODUCT(COUNTIF($C14:$AG14,Vardiyalar!$A$2:$A$20),Vardiyalar!$F$2:$F$20) | AI14: =ROUND(AH14/(DAY(EOMONTH($C$3,0))/7),2) | AJ14: =COUNTIF($C14:$AG14,"G") | AK14: =COUNTIF($C14:$AG14,"HT") | AL14: =COUNTIF($C14:$AG14,"Yİ")+COUNTIF($C14:$AG14,"R")
A15: 8 | AH15: =SUMPRODUCT(COUNTIF($C15:$AG15,Vardiyalar!$A$2:$A$20),Vardiyalar!$F$2:$F$20) | AI15: =ROUND(AH15/(DAY(EOMONTH($C$3,0))/7),2) | AJ15: =COUNTIF($C15:$AG15,"G") | AK15: =COUNTIF($C15:$AG15,"HT") | AL15: =COUNTIF($C15:$AG15,"Yİ")+COUNTIF($C15:$AG15,"R")
A16: 9 | AH16: =SUMPRODUCT(COUNTIF($C16:$AG16,Vardiyalar!$A$2:$A$20),Vardiyalar!$F$2:$F$20) | AI16: =ROUND(AH16/(DAY(EOMONTH($C$3,0))/7),2) | AJ16: =COUNTIF($C16:$AG16,"G") | AK16: =COUNTIF($C16:$AG16,"HT") | AL16: =COUNTIF($C16:$AG16,"Yİ")+COUNTIF($C16:$AG16,"R")
A17: 10 | AH17: =SUMPRODUCT(COUNTIF($C17:$AG17,Vardiyalar!$A$2:$A$20),Vardiyalar!$F$2:$F$20) | AI17: =ROUND(AH17/(DAY(EOMONTH($C$3,0))/7),2) | AJ17: =COUNTIF($C17:$AG17,"G") | AK17: =COUNTIF($C17:$AG17,"HT") | AL17: =COUNTIF($C17:$AG17,"Yİ")+COUNTIF($C17:$AG17,"R")
A18: 11 | AH18: =SUMPRODUCT(COUNTIF($C18:$AG18,Vardiyalar!$A$2:$A$20),Vardiyalar!$F$2:$F$20) | AI18: =ROUND(AH18/(DAY(EOMONTH($C$3,0))/7),2) | AJ18: =COUNTIF($C18:$AG18,"G") | AK18: =COUNTIF($C18:$AG18,"HT") | AL18: =COUNTIF($C18:$AG18,"Yİ")+COUNTIF($C18:$AG18,"R")
A19: 12 | AH19: =SUMPRODUCT(COUNTIF($C19:$AG19,Vardiyalar!$A$2:$A$20),Vardiyalar!$F$2:$F$20) | AI19: =ROUND(AH19/(DAY(EOMONTH($C$3,0))/7),2) | AJ19: =COUNTIF($C19:$AG19,"G") | AK19: =COUNTIF($C19:$AG19,"HT") | AL19: =COUNTIF($C19:$AG19,"Yİ")+COUNTIF($C19:$AG19,"R")
... A27: 20 | AH27: =SUMPRODUCT(COUNTIF($C27:$AG27,Vardiyalar!$A$2:$A$20),Vardiyalar!$F$2:$F$20) | AI27: =ROUND(AH27/(DAY(EOMONTH($C$3,0))/7),2) | AJ27: =COUNTIF($C27:$AG27,"G") | AK27: =COUNTIF($C27:$AG27,"HT") | AL27: =COUNTIF($C27:$AG27,"Yİ")+COUNTIF($C27:$AG27,"R")
B29: Günlük kişi sayısı
B30: S — Sabah | C30: =IF(C$6="","",COUNTIF(C$8:C$27,"S")) | D30: =IF(D$6="","",COUNTIF(D$8:D$27,"S")) | E30: =IF(E$6="","",COUNTIF(E$8:E$27,"S")) | F30: =IF(F$6="","",COUNTIF(F$8:F$27,"S")) | G30: =IF(G$6="","",COUNTIF(G$8:G$27,"S")) | H30: =IF(H$6="","",COUNTIF(H$8:H$27,"S")) | I30: =IF(I$6="","",COUNTIF(I$8:I$27,"S")) | J30: =IF(J$6="","",COUNTIF(J$8:J$27,"S")) | ... AG30: =IF(AG$6="","",COUNTIF(AG$8:AG$27,"S"))
B31: A — Akşam | C31: =IF(C$6="","",COUNTIF(C$8:C$27,"A")) | D31: =IF(D$6="","",COUNTIF(D$8:D$27,"A")) | E31: =IF(E$6="","",COUNTIF(E$8:E$27,"A")) | F31: =IF(F$6="","",COUNTIF(F$8:F$27,"A")) | G31: =IF(G$6="","",COUNTIF(G$8:G$27,"A")) | H31: =IF(H$6="","",COUNTIF(H$8:H$27,"A")) | I31: =IF(I$6="","",COUNTIF(I$8:I$27,"A")) | J31: =IF(J$6="","",COUNTIF(J$8:J$27,"A")) | ... AG31: =IF(AG$6="","",COUNTIF(AG$8:AG$27,"A"))
B32: G — Gece | C32: =IF(C$6="","",COUNTIF(C$8:C$27,"G")) | D32: =IF(D$6="","",COUNTIF(D$8:D$27,"G")) | E32: =IF(E$6="","",COUNTIF(E$8:E$27,"G")) | F32: =IF(F$6="","",COUNTIF(F$8:F$27,"G")) | G32: =IF(G$6="","",COUNTIF(G$8:G$27,"G")) | H32: =IF(H$6="","",COUNTIF(H$8:H$27,"G")) | I32: =IF(I$6="","",COUNTIF(I$8:I$27,"G")) | J32: =IF(J$6="","",COUNTIF(J$8:J$27,"G")) | ... AG32: =IF(AG$6="","",COUNTIF(AG$8:AG$27,"G"))
B33: N — Normal (gündüz) | C33: =IF(C$6="","",COUNTIF(C$8:C$27,"N")) | D33: =IF(D$6="","",COUNTIF(D$8:D$27,"N")) | E33: =IF(E$6="","",COUNTIF(E$8:E$27,"N")) | F33: =IF(F$6="","",COUNTIF(F$8:F$27,"N")) | G33: =IF(G$6="","",COUNTIF(G$8:G$27,"N")) | H33: =IF(H$6="","",COUNTIF(H$8:H$27,"N")) | I33: =IF(I$6="","",COUNTIF(I$8:I$27,"N")) | J33: =IF(J$6="","",COUNTIF(J$8:J$27,"N")) | ... AG33: =IF(AG$6="","",COUNTIF(AG$8:AG$27,"N"))
B35: Ort. haftalık = aylık toplam ÷ (ayın gün sayısı ÷ 7); kesin haftalık 45 saat kontrolü için www.giris.ai/araclar/calisma-saati-hesaplama. Gece vardiyası 7,5 saati aşamaz; günlük çalışma 11 saati aşamaz. Vardiyayı giriş-çıkışla otomatik karşılaştırmak için: www.giris.ai

Sheet Vardiyalar
A1: Kod | B1: Vardiya | C1: Başlangıç | D1: Bitiş | E1: Mola (dk) | F1: Net saat
A2: S | B2: Sabah | C2: 0.33333333 | D2: 0.66666667 | E2: 30 | F2: =ROUND(MOD(D2-C2,1)*24-E2/60,2)
A3: A | B3: Akşam | C3: 0.66666667 | D3: 0 | E3: 30 | F3: =ROUND(MOD(D3-C3,1)*24-E3/60,2)
A4: G | B4: Gece | C4: 0 | D4: 0.33333333 | E4: 30 | F4: =ROUND(MOD(D4-C4,1)*24-E4/60,2)
A5: N | B5: Normal (gündüz) | C5: 0.35416667 | D5: 0.75 | E5: 60 | F5: =ROUND(MOD(D5-C5,1)*24-E5/60,2)
A6: HT | B6: Hafta tatili | F6: 0
A7: RT | B7: Resmi tatil | F7: 0
A8: Yİ | B8: Yıllık izin | F8: 0
A9: R | B9: Raporlu | F9: 0
A11: Kod ve saatleri değiştirebilir, alt satırlara yeni vardiya ekleyebilirsiniz (A2:F20 aralığı kullanılır).

Sheet Nasıl kullanılır
A1: Nasıl kullanılır?
A2: 1) Vardiyalar sayfasında vardiya kodlarını, başlangıç-bitiş saatlerini ve molaları işyerinize göre düzenleyin. Net saat kendiliğinden hesaplanır.
A3: 2) Çizelge sayfasında C3 hücresine ayın ilk gününü yazın; tarih ve gün başlıkları dolar.
A4: 3) Her çalışan için günlere açılır listeden vardiya kodunu seçin (S, A, G, N, HT, RT, Yİ, R).
A5: 4) Sağdaki sütunlar aylık toplam saati, ortalama haftalık saati (45 üstü kırmızı), gece vardiyası ve izin günlerini gösterir.
A6: 5) Alttaki “Günlük kişi sayısı” tablosu her gün hangi vardiyada kaç kişi olduğunu gösterir.
A8: Hatırlatma: Haftada en az 24 saat kesintisiz hafta tatili verilmelidir. Gece çalışması 7,5 saati, günlük çalışma 11 saati aşamaz.
